BEGIN:VCALENDAR
PRODID:-//NOLIS GmbH//NOLIS-Manager Kalender V3.5//DE
VERSION:2.0
METHOD:PUBLISH
LAST-MODIFIED:20231203T103836Z
NAME:Kalender
X-WR-CALNAME:Kalender
X-WR-TIMEZONE:UTC
X-VCALENDER-VERSION:3.5
X-MS-OLK-FORCEINSPECTOROPEN:TRUE
BEGIN:VEVENT
DTSTART:20191022T083000Z
SUMMARY:Antrieb für die City-Land-Logistik – Batterie, Wasserstoff oder Muskelkraft?
PRIORITY:0
DTEND:20191022T134500Z
LOCATION:Nordwest-Zeitung, Peterstraße 28-34, \n26121 Oldenburg
UID:869e58c1fc001a773e07c5163bfd853d
X-ID:10018_900000106
DTSTAMP:20230517T112041Z
CATEGORIES:Sonstiges
X-CATEGORIES:613
DESCRIPTION:Die City-Logistik erfährt nicht zuletzt durch die immer strengeren Abgasrichtlinien große Herausforderungen im Transport von Post- und Paket-Sendungen. Im Flächenland Niedersachsen kommt der ländliche Raum hinzu, der durch die Elektromobilität mit Batteriebetrieb vor der Reichweitenfrage steht. Zudem gilt es, die Wartung der Fahrzeuge sicherzustellen, denn die Werkstätten sind meist nicht im Tante-Emma-Laden an der nächsten Kreuzung.\n\nEs ergeben sich auch viele Chancen, denn die neuen Fahrzeuge wie z.B. E-Lastenräder bieten die Möglichkeit, weniger Verkehrsraum in Anspruch zu nehmen und die Fahrräder sind in der Stadt häufig schneller als ein Auto oder Transporter. Neue Arbeitsplätze und Dienstleistungen entstehen. Wandel nicht nur in der Mobilität auf der Straße, sondern auch im Denken ist gefragt.\n\nIm Workshop möchte Automotive Nordwest mit Ihnen die Bedarfe der Verlage/Logistik-Dienstleister erarbeiten und mit den Möglichkeiten der heutigen Technologie abgleichen, sodass gemeinsam neue Lösungen entstehen können.\n\n \n\nProgramm:\n\n10:30 Uhr Empfang und Begrüßung – Ergebnisse aus dem Projekt „Elektromobilität als Schlüssel zur Mobilität der Zukunft" (Automotive Nordwest in Kooperation mit OLEC, gefördert durch die Metropolregion Nordwest)\n\n10:45 Uhr Die Verlagslogistik der Zukunft aus Sicht der NWZ in Oldenburg Jan Fitzner, CITIPOST Nordwest GmbH & Co. KG\n\n11:10 Uhr Diskussion/Abgleich mit anderen anwesenden Verlagen/Logistikdienstleistern\n\n11:40 Uhr Wasserstoff – Das unbekannte Wesen Claas Schott, H2BX – Wasserstoff für die Region Bremerhaven e. V.\n\n12:00 Uhr Umsetzung regenerativer Mobilitätslösungen – Traum oder Wirklichkeit? Bernd Schürmann, SCHULZ Systemtechnik GmbH\n\n12:30 Uhr Mittagspause mit Austausch auf Einladung CITIPOST\n\n13:45 Uhr Lastmile Logistik Prof. Dr. Benjamin Wagner vom Berg, Hochschule Bremerhaven\n\n14:10 Uhr Intelligent, effizient, disruptiv – Citylogistik neu definiert Arne Kruse, RYTLE GmbH\n\n14:30 Uhr Die Mobilitätswende ist schon da Jonas Kossendey, Waydo GmbH\n\n14:50 Uhr Vom Automobilhersteller zum Mobilitätsdienstleister auf vier und zwei Rädern Thomas Ludewig, Volkswagen AG\n\n15:10 Uhr Welche gemeinsamen Handlungsfelder ergeben sich? Wie geht es weiter?\n\n15:45 Uhr Ende der Veranstaltung\n\nUm verbindliche Anmeldung unter\n\nhttps://automotive-nordwest.de/veranstaltungen/antrieb-fuer-die-city-land-logistik-batterie-wasserstoff-oder-muskelkraft/\n\nbis zum 9.10.2019 wird gebeten.\n\nCITIPOST Oldenburg unterstützt diese Veranstaltung von Automotive Nordwest inhaltlich und organisatorisch.\n\n 
CLASS:PUBLIC
URL;VALUE=URI:http://www.automotive-nordwest.de
STATUS:CONFIRMED
GEO:0.000000000;0.000000000
X-GEO-PROJECTION:EPSG:4326
CONTACT:Homepage: http://www.automotive-nordwest.de
CREATED:20191007T074348Z
LAST-MODIFIED:20230517T112041Z
X-KOMMUNE: Metropolregion Nordwest
X-KOMMUNE-ID:10018
X-RESSORT:ChangeLog signoPAD-API / Win
X-RESSORT-ID:900000005
X-ORGANIZER:Automotive Nordwest e.V.
X-NOLISEXPORT:1
END:VEVENT
END:VCALENDAR
