BEGIN:VCALENDAR
PRODID:-//NOLIS GmbH//NOLIS-Manager Kalender V3.5//DE
VERSION:2.0
METHOD:PUBLISH
LAST-MODIFIED:20231203T092242Z
NAME:Kalender
X-WR-CALNAME:Kalender
X-WR-TIMEZONE:UTC
X-VCALENDER-VERSION:3.5
X-MS-OLK-FORCEINSPECTOROPEN:TRUE
BEGIN:VEVENT
DTSTART:20190606T110000Z
SUMMARY:Barcamp „E-Mobilität und die Zukunft: Chancen und Folgen für unsere Region“
PRIORITY:3
DTEND:20190606T150000Z
LOCATION:Kreishaus, Delmenhorster Straße 6\n27793 Wildeshausen
UID:3a2cd23578f24baa7dc9922c8f442331
X-ID:10018_900000100
DTSTAMP:20230517T112041Z
DESCRIPTION:Elektromobilität, mit Batterie oder Brennstoffzelle, ist ein wichtiger Baustein für eine zukunftsfähige Mobilität. Die sogenannte „Mobilitätswende“ bedeutet nicht nur ein Wandel im Verkehr, sondern die Veränderungen anderer Faktoren, wie zum Bespiel die Beschäftigung und die Wertschöpfung oder Infrastrukturplanung. \n\n- Welche Herausforderungen gibt es für die Region?\n\n- Welche Rahmenbedingungen für eine erfolgreiche Förderung von E-Mobilität müssen geändert werden?\n\n- Wie können Kommunen als relevante Akteure unterstützt werden?\n\n- Wo entstehen neue Branchen und Jobs?\n\n- Welche E-Mobilitätstechnologien und neue Ansätze können unsere regionale Mobilität nachhaltiger gestalten oder optimieren?\n\n- Welche Chancen und Folgen bringen sie mit sich?\n\n…diese und weitere Fragen möchten wir gerne bei unserem Barcamp am 6. Juni 2019 in Wildeshausen mit Ihnen diskutieren.\n\nWas bewegt Sie? Machen Sie mit! Nutzen Sie die Möglichkeit ihr Thema vorzustellen und es in einer Session mit anderen Akteuren zu diskutieren.\n\n \n\nEin BARCAMP ist eine offene Tagung, auch Un-Konferenz genannt, auf der Sie das Programm und die Themen mitbestimmen können. So haben Sie auch die Möglichkeit, selbst in einer „Session“ – einer 30-minütigen Diskussionsrunde – aktiv ein Thema zu präsentieren. Die Idee dabei: Jeder ist Spezialist in seinem bestimmten Bereich und kann sein Wissen und seine Erfahrungen an andere Interessierte weitergeben.\n\nDie Teilnahme ist kostenlos. Die Teilnehmerzahl ist begrenzt. Bitte melden Sie sich bis zum 29.05.2019 hier an!\n\n \n\n \n\n \n\nEine Veranstaltung der Metropolregion Nordwest im Rahmen des Förderprojektes „E-Mobilität als Schlüssel zur Mobilität der Zukunft“ in Kooperation mit Automotive Nordwest und dem Oldenburger Energiecluster OLEC.
CLASS:PUBLIC
STATUS:CONFIRMED
GEO:0.000000000;0.000000000
X-GEO-PROJECTION:EPSG:4326
CREATED:20190507T081016Z
LAST-MODIFIED:20230517T112041Z
X-KOMMUNE: Metropolregion Nordwest
X-KOMMUNE-ID:10018
X-RESSORT:Öffentlich
X-RESSORT-ID:900000001
X-SCHLAGWORTE:E-Mobilität, Brennstoffzellen, Logistik, Automotive, Energie
X-KURZBESCHREIBUNG:Das Konzept: Jede(r) kann ein Thema präsentieren und die Teilnehmer setzen selbst das Programm. Der Schwerpunkt: E-Mobilität und ihre Folgen und Chancen für die Region. Das Ziel: branchenübergreifender Erfahrungs- und Wissensaustausch.
X-KURZ-DETAIL:0
X-NOLISEXPORT:1
END:VEVENT
END:VCALENDAR
