BEGIN:VCALENDAR
PRODID:-//NOLIS GmbH//NOLIS-Manager Kalender V3.5//DE
VERSION:2.0
METHOD:PUBLISH
LAST-MODIFIED:20231203T103835Z
NAME:Kalender
X-WR-CALNAME:Kalender
X-WR-TIMEZONE:UTC
X-VCALENDER-VERSION:3.5
X-MS-OLK-FORCEINSPECTOROPEN:TRUE
BEGIN:VEVENT
DTSTART:20200220T080000Z
SUMMARY:Barcamp Praxisforum Digitalsierung 2020
PRIORITY:0
DTEND:20200220T153000Z
LOCATION:Bundestechnologiezentrum für Elektro- und Informationstechnik e. V, Donnerschweer Str. 184, 26123 Oldenburg
UID:0d0feae107c54213a002c96290a4e3cc
X-ID:10018_900000107
DTSTAMP:20230517T112041Z
DESCRIPTION:
CLASS:PUBLIC
STATUS:CONFIRMED
GEO:0.000000000;0.000000000
X-GEO-PROJECTION:EPSG:4326
CREATED:20191210T151753Z
LAST-MODIFIED:20230517T112041Z
X-KOMMUNE: Metropolregion Nordwest
X-KOMMUNE-ID:10018
X-RESSORT:Intern
X-RESSORT-ID:900000002
X-KURZBESCHREIBUNG:Wir laden Sie herzlich ein, sich im Barcamp in einem Netzwerk mit Interessierten aus Unternehmen\nder Region und mit fachlich versierten Ansprechpartnern auszutauschen, um gemeinsam an Fragestellungen rund um Digitalisierungsthemen zu arbeiten.
X-KURZ-DETAIL:0
X-NOLISEXPORT:1
END:VEVENT
END:VCALENDAR
