BEGIN:VCALENDAR
PRODID:-//NOLIS GmbH//NOLIS-Manager Kalender V3.5//DE
VERSION:2.0
METHOD:PUBLISH
LAST-MODIFIED:20231203T103414Z
NAME:Kalender
X-WR-CALNAME:Kalender
X-WR-TIMEZONE:UTC
X-VCALENDER-VERSION:3.5
X-MS-OLK-FORCEINSPECTOROPEN:TRUE
BEGIN:VEVENT
DTSTART:20190306T083000Z
SUMMARY:Kommunalveranstaltung „Roadshow Nachhaltige Entwicklung“
PRIORITY:0
DTEND:20190306T170000Z
LOCATION:,  Metropolregion Nordwest
UID:a300e45b82cc24f54d10eef3c367d765
X-ID:10018_900000093
DTSTAMP:20230517T112041Z
DESCRIPTION:Kommunen haben ein zunehmendes Interesse, durch nachhaltiges Handeln die zukunftsfähige Entwicklung ihrer Kommunen sicherzustellen. Hierfür müssen innovative Wege beschritten werden, für dessen inhaltliche Ausgestaltung ein Wissenstransfer von der Theorie in die Praxis erforderlich ist.\n\nMit dem Rahmenprogramm Forschung für Nachhaltige Entwicklung (FONA) unterstützt das Bundesministerium für Bildung und Forschung (BMBF) bereits seit über zehn Jahren die Erarbeitung von Entscheidungsgrundlagen für ein zukunftsorientiertes Handeln und liefert innovative Lösungen sowie Produkte für eine nachhaltige Gesellschaft. Die Veranstaltung „Roadshow Nachhaltige Entwicklung" vermittelt in einer bundesweiten Veranstaltungsreihe das Wissen aus der angewandten Forschung unter Fokussierung auf die Handlungsfelder Energie, Wasserinfrastruktursysteme, ressourceneffiziente Landnutzung sowie Finanzierung.\n\nBitte entnehmen Sie weitere Informationen der angehängten Einladung und dem Programm.\n\n 
CLASS:PUBLIC
STATUS:CONFIRMED
GEO:0.000000000;0.000000000
X-GEO-PROJECTION:EPSG:4326
CREATED:20190129T104512Z
LAST-MODIFIED:20230517T112041Z
X-KOMMUNE: Metropolregion Nordwest
X-KOMMUNE-ID:10018
X-RESSORT:ChangeLog signoPAD-API / JAVA
X-RESSORT-ID:900000007
X-KURZBESCHREIBUNG:Bei dieser Veranstaltung des Instituts für angewandtes Stoffstrommanagement (IfaS, Hochschule Trier) werden kommunale Praktikerinnen und Praktiker anwendbare Lösungsansätze und Produkte aus der „Forschung für Nachhaltige Entwicklung“ (FONA) des BMBF präsentieren.
X-KURZ-DETAIL:0
X-NOLISEXPORT:1
END:VEVENT
END:VCALENDAR
