BEGIN:VCALENDAR
PRODID:-//NOLIS GmbH//NOLIS-Manager Kalender V3.5//DE
VERSION:2.0
METHOD:PUBLISH
LAST-MODIFIED:20231203T103619Z
NAME:Kalender
X-WR-CALNAME:Kalender
X-WR-TIMEZONE:UTC
X-VCALENDER-VERSION:3.5
X-MS-OLK-FORCEINSPECTOROPEN:TRUE
BEGIN:VEVENT
DTSTART:20211110T180000Z
SUMMARY:Praxisforum Digitalisierung After Work
PRIORITY:0
DTEND:20211110T203000Z
LOCATION:Digitales Format
UID:196f9a03b0d7311deb8dd5f7ce2e8a23
X-ID:10018_900000122
DTSTAMP:20230517T112041Z
DESCRIPTION:
CLASS:PUBLIC
STATUS:CONFIRMED
GEO:0.000000000;0.000000000
X-GEO-PROJECTION:EPSG:4326
CREATED:20210906T101142Z
LAST-MODIFIED:20230517T112041Z
X-KOMMUNE: Metropolregion Nordwest
X-KOMMUNE-ID:10018
X-RESSORT:Intern
X-RESSORT-ID:900000002
X-KURZBESCHREIBUNG:Für die After-Work-Ausgabe des Praxisforums Digitalisierung wurden Referent:innen zu den Themen „Handel digital: Shopsysteme“, „Mobile Zeiterfassung“, „Additive Fertigung in der Produktion“ und „Elektromobilität im Unternehmen“ als Sessiongeber:innen gewonnen.
X-KURZ-DETAIL:0
X-NOLISEXPORT:1
END:VEVENT
END:VCALENDAR
