BEGIN:VCALENDAR
PRODID:-//NOLIS GmbH//NOLIS-Manager Kalender V3.5//DE
VERSION:2.0
METHOD:PUBLISH
LAST-MODIFIED:20231203T104040Z
NAME:Kalender
X-WR-CALNAME:Kalender
X-WR-TIMEZONE:UTC
X-VCALENDER-VERSION:3.5
X-MS-OLK-FORCEINSPECTOROPEN:TRUE
BEGIN:VEVENT
DTSTART:20210920T113000Z
SUMMARY:Regionales Akteursforum automatisiertes Fahren
PRIORITY:0
DTEND:20210921T150000Z
LOCATION:digitale Veranstaltungsplattform swapcard
UID:19a092d192836841d1034ea635e9a8a2
X-ID:10018_900000118
DTSTAMP:20230517T112041Z
DESCRIPTION:Sollte Ihnen die zweitägige Teilnahme an der Veranstaltung nicht möglich sein, so begrüßen wir Sie auch gern lediglich an einem der beiden Veranstaltungstage.
CLASS:PUBLIC
STATUS:CONFIRMED
GEO:0.000000000;0.000000000
X-GEO-PROJECTION:EPSG:4326
CREATED:20210713T134814Z
LAST-MODIFIED:20230517T112041Z
X-KOMMUNE: Metropolregion Nordwest
X-KOMMUNE-ID:10018
X-RESSORT:ChangeLog signoPAD-API / Win
X-RESSORT-ID:900000005
X-SCHLAGWORTE:Akteursforum, automatisiertes Fahren, autonomes Fahren
X-KURZBESCHREIBUNG:Das „Regionale Akteursforum automatisiertes Fahren“ beleuchtet die Chancen aber auch die Risiken des automatisierten Fahrens, stellt den Status quo vor und skizziert, welche Szenarien in den nächsten Jahren realistisch sind, und welche womöglich noch Jahrzehnte Vision bleiben werden.
X-KURZ-DETAIL:0
X-NOLISEXPORT:1
END:VEVENT
END:VCALENDAR
