BEGIN:VCALENDAR
PRODID:-//NOLIS GmbH//NOLIS-Manager Kalender V3.5//DE
VERSION:2.0
METHOD:PUBLISH
LAST-MODIFIED:20231203T104053Z
NAME:Kalender
X-WR-CALNAME:Kalender
X-WR-TIMEZONE:UTC
X-VCALENDER-VERSION:3.5
X-MS-OLK-FORCEINSPECTOROPEN:TRUE
BEGIN:VEVENT
DTSTART:20210909T120000Z
SUMMARY:Stabile Lieferketten in Krisenzeiten - 10. Regionalkonferenz Logistik der Metropolregion Nordwest
PRIORITY:0
DTEND:20210909T160000Z
LOCATION:Logistikzentrum der Firma adidas in Rieste, Landkreis Osnabrück
UID:a3dc24dc17050fa2f2a06254d813f341
X-ID:10018_900000117
DTSTAMP:20230517T112041Z
DESCRIPTION:Weitere Informationen zum Programm finden Sie im pdf unter Downloads (s. unten)
CLASS:PUBLIC
STATUS:CONFIRMED
GEO:0.000000000;0.000000000
X-GEO-PROJECTION:EPSG:4326
CREATED:20210708T084652Z
LAST-MODIFIED:20230517T112041Z
X-KOMMUNE: Metropolregion Nordwest
X-KOMMUNE-ID:10018
X-RESSORT:Intern
X-RESSORT-ID:900000002
X-KURZBESCHREIBUNG:Die Regionalkonferenz Logistik der Metropolregion Nordwest beleuchtet in diesem Jahr, welche Herausforderungen durch die Unterbrechungen von Logistikketten, z. B. aufgrund einer Pandemie, entstehen, und wie wir diesen begegnen können.
X-KURZ-DETAIL:0
X-NOLISEXPORT:1
END:VEVENT
END:VCALENDAR
