BEGIN:VCALENDAR
PRODID:-//NOLIS GmbH//NOLIS-Manager Kalender V3.5//DE
VERSION:2.0
METHOD:PUBLISH
LAST-MODIFIED:20231203T100333Z
NAME:Kalender
X-WR-CALNAME:Kalender
X-WR-TIMEZONE:UTC
X-VCALENDER-VERSION:3.5
X-MS-OLK-FORCEINSPECTOROPEN:TRUE
BEGIN:VEVENT
DTSTART:20231122T163000Z
SUMMARY:TREFFPUNKT METROPOLREGION: Alles eitel Sonnenschein? Potenziale und Chancen der Freiflächenphotovoltaik für Unternehmen
PRIORITY:0
DTEND:20231122T200000Z
LOCATION:Turbinenhalle des Industriemuseums Nordwolle in Delmenhorst
UID:97abbee56d75b7b49d09d67113c155d2
X-ID:10018_900000130
DTSTAMP:20231024T112751Z
DESCRIPTION:"Nordwesten.Stark.Klimaneutral" ist das Motto, unter das wir in der Metropolregion unsere Aktivitäten bis 2025 stellen.\n\nWie widmen wir uns den Herausforderungen? Was macht unsere Region stark? Wo müssen wir besser werden? Und wie? \n\nSind Sie neugierig geworden? \nDann nutzen Sie die Chance zu exklusiven Einblicken bei unserem gemeinsamen Treffpunkt Metropolregion! \n\nSie sind herzlich eingeladen in die Turbinenhalle des Industriemuseums Nordwolle in Delmenhorst, um mit uns das Thema „Freiflächenphotovoltaik: Chancen & Potenziale für Unternehmen“ zu beleuchten.\n\nam 22. November 2023 \n\n17:30 Uhr: Einlass\n18:00 Uhr: Beginn Business Talk mit\n- zwei Impulsvorträgen und \n- Podiumsdiskussion zum Thema Freiflächenphotovoltaik\n- Netzwerken bei Fingerfood und Getränken\n21:00 Uhr: Ende\n\n\nDetails zum Programm und Ihre Anmeldemöglichkeit: https://veranstaltung.ihk-oldenburg.de/treffpunktmetropolregion
CLASS:PUBLIC
STATUS:CONFIRMED
GEO:0.000000000;0.000000000
X-GEO-PROJECTION:EPSG:4326
CREATED:20231024T105420Z
LAST-MODIFIED:20231024T112751Z
X-KOMMUNE: Metropolregion Nordwest
X-KOMMUNE-ID:10018
X-RESSORT:ChangeLog signoAPI JAVA Native 2
X-RESSORT-ID:900000008
X-NOLISEXPORT:1
END:VEVENT
END:VCALENDAR
