BEGIN:VCALENDAR
PRODID:-//NOLIS GmbH//NOLIS-Manager Kalender V3.5//DE
VERSION:2.0
METHOD:PUBLISH
LAST-MODIFIED:20231203T103249Z
NAME:Kalender
X-WR-CALNAME:Kalender
X-WR-TIMEZONE:UTC
X-VCALENDER-VERSION:3.5
X-MS-OLK-FORCEINSPECTOROPEN:TRUE
BEGIN:VEVENT
DTSTART:20190313T090000Z
SUMMARY:Wie die E-Mobilität eine Branche verändert: Nutz- und Spezialfahrzeuge treffen auf Logistik-Lösungen
PRIORITY:3
DTEND:20190313T120000Z
LOCATION:Deutsches Auswandererhaus Bremerhaven, Colombusstraße 65\n27568 Bremerhaven
UID:a31b126718a81e8c060189dc796379f9
X-ID:10018_900000096
DTSTAMP:20230517T112041Z
DESCRIPTION:Eine Veranstaltung der Metropolregion Nordwest im Rahmen des Förderprojektes „E-Mobilität als Schlüssel zur Mobilität der Zukunft“ in Kooperation mit Automotive Nordwest, Oldenburger Energiecluster OLEC und Hochschule Bremerhaven.\n\nNachhaltiges Wirtschaften ist ein zentrales Thema unserer Zeit und stellt insbesondere auch die Transport- und Logistikbranche vor neue Herausforderungen. Vor diesem Hintergrund wollen die Arbeitsgruppen „Spezial- und Nutzfahrzeuge“ und „Logistik, Häfen und Flughäfen“ gemeinsam Synergie-Effekte heben und nutzen.\n\nZusammen mit unseren Kooperationspartnern im Rahmen des Projektes "Elektromobilität als Schlüssel zur Mobilität der Zukunft" laden wir Sie zu unserer Fachveranstaltung "Wie die E-Mobilität eine Branche verändert: Nutz- und Spezialfahrzeuge treffen auf Logistik-Lösungen" am 13. März 2019 um 10:00 Uhr im Deutschen Auswandererhaus ein.\n\n \n\n \n\nDie Teilnahme ist kostenlos. Die Teilnehmerzahl ist begrenzt. \n\n \n\n 
CLASS:PUBLIC
STATUS:CONFIRMED
GEO:0.000000000;0.000000000
X-GEO-PROJECTION:EPSG:4326
CREATED:20190219T150248Z
LAST-MODIFIED:20230517T112041Z
X-KOMMUNE: Metropolregion Nordwest
X-KOMMUNE-ID:10018
X-RESSORT:Öffentlich
X-RESSORT-ID:900000001
X-SCHLAGWORTE:E-Mobilität, Brennstoffzellen, Logistik, Automotive
X-KURZBESCHREIBUNG:Nachhaltiges Wirtschaften ist ein zentrales Thema unserer Zeit und stellt insbesondere auch die Transport- und Logistikbranche vor neue Herausforderungen. In diesem Rahmen wollen die Arbeitsgruppen „Spezial- und Nutzfahrzeuge“ und „Logistik, Häfen und Flughäfen“ gemeinsam Synergie-Effekte nutzen und laden ein.
X-KURZ-DETAIL:0
X-NOLISEXPORT:1
END:VEVENT
END:VCALENDAR
